BEGIN:VCALENDAR
VERSION:2.0
PRODID:Imitheme.com
BEGIN:VEVENT
UID:20260422T191211-835550092
DTSTAMP;TZID=UTC:1776885131
DTSTART:20260422T191211Z
DTEND:19700101T000000Z
SUMMARY:Darwin Day. Piero Borzini “L'arduo cammino di Darwin”
LOCATION:Str. Corsini, 5, 58100 Grosseto GR
DESCRIPTION: <strong>Piero Borzini</strong> descrive i contenuti del suo recente libro "<strong>L'arduo cammino di Darwin</strong>", nel quale esamina con accuratezza l’abbondante documentazione scritta del celebre scienziato, fondamentale punto di partenza per comprendere al meglio la genesi della teoria più importante delle scienze della vita: l’evoluzione per selezione naturale. Borzini ha tradotto di sua mano manoscritti, lettere, note e osservazioni originali di Darwin, adottando una visione umanistica e non solo scientifica, soffermandosi sull’uomo Darwin e le sue emozioni.
Ma c'è dell'altro: uno spaccato dell’Inghilterra vittoriana, degli scienziati che insieme a Darwin hanno contribuito a fondare le moderne scienze naturali (Charles Lyell, Joseph D. Hooker, Thomas H. Huxley e altri).
Il grande lavoro di Darwin, infatti, non è nato da ricerche solitarie, ma da un continuo relazionarsi e confrontarsi con altri naturalisti per trovare l’interpretazione corretta delle sue idee e convinzioni, costantemente messe in dubbio anche da lui stesso. L’arduo cammino di Darwin è, pertanto, un inedito viaggio che offre uno spaccato sincero di una mente illustre, delle sue grandi idee e della società a lui contemporanea.
END:VEVENT
END:VCALENDAR
