BEGIN:VCALENDAR
VERSION:2.0
PRODID:Imitheme.com
BEGIN:VEVENT
UID:20260424T084059-1899034447
DTSTAMP;TZID=UTC:1777020059
DTSTART:20260424T084059Z
DTEND:19700101T000000Z
SUMMARY:*RIMANDATO* Premiazione concorso nazionale fototrappolaggio
LOCATION:Str. Corsini, 5, 58100 Grosseto GR
DESCRIPTION: *RIMANDATO A DATA DA DEFINIRE*
END:VEVENT
END:VCALENDAR
