BEGIN:VCALENDAR
VERSION:2.0
PRODID:Imitheme.com
BEGIN:VEVENT
UID:20260424T083237-779896064
DTSTAMP;TZID=UTC:1777019557
DTSTART:20260424T083237Z
DTEND:19700101T000000Z
SUMMARY:*RIMANDATO* Giornata della Citizen Science Natura sulle Mura, conferenza e premio Touring Club 2020
LOCATION:Str. Corsini, 5, 58100 Grosseto GR
DESCRIPTION: *RIMANDATO A DATA DA DEFINIRE*

&nbsp;

Il <strong>monitoraggio della biodiversità</strong> può avvenire anche in contesti urbani, per la produzione di banche dati che consentano di valutare le comunità animali e vegetali presenti e per rendere consapevoli i cittadini sulla natura presente in città.

<strong>Grosseto</strong> è tra le pochissime città italiane con una <strong>cinta muraria ancora pressoché integra</strong>, costituita da ampi terrapieni e aree verdi.

Natura sulle mura è un evento promosso dal museo che prevede l’iscrizione gratuita, un’ora di<strong> rilievi di campo</strong> tramite foto scattate ad ogni forma vivente spontanea, il rientro in museo per le determinazioni e <strong>piccoli premi finali</strong> a carattere naturalistico (ad se. guide cartacee e partecipazione gratuita ad eventi a pagamento del museo).

Si sta strutturando una comunità locale di soggetti interessati a <strong>proseguire i campionamenti nel tempo</strong>.
END:VEVENT
END:VCALENDAR
