BEGIN:VCALENDAR
VERSION:2.0
PRODID:Imitheme.com
BEGIN:VEVENT
UID:20260424T084059-1597335090
DTSTAMP;TZID=UTC:1777020059
DTSTART:20260424T084059Z
DTEND:19700101T000000Z
SUMMARY:Alessandro Massolo I coyote ‘cittadini’:  l’esperienza di un progetto ‘urbano’ in Canada
LOCATION:Str. Corsini, 5, 58100 Grosseto GR
DESCRIPTION: <span style="font-weight: 400;">Un progetto di studio sull'ecologia e sulla salute del carnivoro di maggior successo in Nord-America: il coyote (</span><i><span style="font-weight: 400;">Canis latrans)</span></i><span style="font-weight: 400;">. L’autore descriverà le difficoltà’ incontrate nello sviluppo di un progetto in ambiente urbano ed i risultati chiave relativi ai rischi e alle problematiche dell’interazione tra coyote, cani e persone nei parchi cittadini di una metropoli canadese. Durante la presentazione verranno proiettate immagini e video originali che permettono di apprezzare la bellezza e la complessità’ del comportamento di questo animale e del suo ruolo in ambiente urbano. Inoltre, si discuterà’ di come far convivere questi ‘cittadini’ con le attività’ dell’uomo, tutelando la salute e la sicurezza di tutti.</span>
END:VEVENT
END:VCALENDAR
