BEGIN:VCALENDAR
VERSION:2.0
PRODID:Imitheme.com
BEGIN:VEVENT
UID:20260424T083201-896251134
DTSTAMP;TZID=UTC:1777019521
DTSTART:20260424T083201Z
DTEND:19700101T000000Z
SUMMARY:*RIMANDATO* Marco Alberto Bologna La fauna italiana: caratteristiche biogeografiche e conservazione delle specie
LOCATION:Str. Corsini, 5, 58100 Grosseto GR
DESCRIPTION: <span style="font-weight: 400;">Marco Alberto Bologna è un affermato zoologo, Presidente del Comitato Scientifico per la Fauna Italiana. Nel suo incontro ci condurrà in un viaggio sull’origine ed evoluzione della fauna del nostro paese, per comprendere meglio come si sono evolute le popolazioni nel tempo e quali questioni conservazionistiche si pongono per i prossimi anni. La comprensione di aspetti come la relittualità (specie rimaste isolate in un contesto completamente diverso da quello in cui si sono evolute), l’endemicità (specie presenti solo in un ristretto areale) o la marginalità di distribuzione è infatti determinante per adottare  corrette strategie di conservazione della fauna.</span>
END:VEVENT
END:VCALENDAR
