BEGIN:VCALENDAR
VERSION:2.0
PRODID:Imitheme.com
BEGIN:VEVENT
UID:20260424T083311-1809208043
DTSTAMP;TZID=UTC:1777019591
DTSTART:20260424T083311Z
DTEND:19700101T000000Z
SUMMARY:I Muschi delle aree  collinari e montane
LOCATION:Str. Corsini, 5, 58100 Grosseto GR
DESCRIPTION: Sono spesso davanti i nostri occhi, colonizzano ambienti diversi, in città come nei boschi e in campagna, ma spesso non dedichiamo loro sufficiente attenzione;
si tratta dei muschi, vegetali dalle caratteristiche straordinarie che cercheremo di conoscere meglio con un incontro di citizen science ad essi dedicato.
Siete tutti invitati a seguire l'evento organizzato per sabato 5 dicembre alle ore 17:00
Ilaria Bonini (Università di Siena) ci descriverà le caratteristiche botaniche ed ecologiche dei muschi, guidandoci al riconoscimento di alcune delle specie presenti sul nostro territorio.
Il webinar, inizialmente previsto come un "incontro di citizen science" in presenza e con una uscita di campo, produrrà anche un pieghevole per il riconoscimento delle specie, che verrà distribuito come pdf ai partecipanti e verrà stampato e reso disponibile in museo per gli interessati.
Collegati al sito del museo o visita la nostra pagina Facebook per la diretta.
END:VEVENT
END:VCALENDAR
