BEGIN:VCALENDAR
VERSION:2.0
PRODID:Imitheme.com
BEGIN:VEVENT
UID:20260423T130444-217829978
DTSTAMP;TZID=UTC:1776949484
DTSTART:20260423T130444Z
DTEND:19700101T000000Z
SUMMARY:IL SIPARIO DELLA NATURA
LOCATION:
DESCRIPTION: “Il sipario della natura” è un festival teatrale dedicato a bambini e famiglie, che intreccia spettacolo e tematiche ambientali. Un progetto che coinvolge compagnie teatrali locali, con esperienza nel teatro per l’infanzia, per avvicinare il pubblico più giovane alla natura attraverso il linguaggio della scena
END:VEVENT
END:VCALENDAR
